Workbook

Sheet Титул
A1: ФЕДЕРАЛЬНОЕ ГОСУДАРСТВЕННОЕ КАЗЕННОЕ ОБРАЗОВАТЕЛЬНОЕ УЧРЕЖДЕНИЕ ВЫСШЕГО ОБРАЗОВАНИЯ «ВОЛГОГРАДСКАЯ АКАДЕМИЯ МИНИСТЕРСТВА ВНУТРЕННИХ ДЕЛ РОССИЙСКОЙ ФЕДЕРАЦИИ» ДОНЕЦКИЙ ФИЛИАЛ
I5: УТВЕРЖДАЮ
I9: (наименование кафедры)
I11: (специальное звание)
N13: (И.О. Фамилия)
I14: « | K14: » | O14: 20 | Q14: г.
A21: ИНДИВИДУАЛЬНЫЙ ПЛАН РАБОТЫ
E24: на 20 | G24: /20 | J24: учебный год
S26: Ф.И.О. заполняется в именительном падеже
A27: (фамилия, имя, отчество)
A28: специальное звание | T28: ВЫСЛУГА
A29: ученая степень | T29: РАБОТНИК | U29: =IF(E28="","●","") -> ●
A30: ученое звание | T30: СТАВКА | U30: 1
A31: должность
A32: кафедра
A41: - 2 -
A43: Необходимо обратить внимание
B44: 1. | C44: Преподаватель, начавший свою деятельность в течение учебного года должен указать:
C45: – | D45: дата начала работы
C46: − | D46: приказ о назначении (переводе) от | P46: №
B47: 2. | C47: При заполнении индивидуального плана работы преподавателя выделяется соответствующая строка с выслугой лет и объемом часов годового бюджета служебного времени, а также – объемом учебной нагрузки и минимальной нагрузкой по научной деятельности.
A49: Годовой объем служебного (рабочего) времени, обязательный для выполнения профессорско-преподавательским составом:
B50: а) | C50: для сотрудников органов внутренних дел с выслугой:
C51: до 10 лет | F51: – | G51: 1680 | H51: часов;
C52: от 10 до 15 лет | F52: – | G52: 1640 | H52: часов;
C53: от 15 до 20 лет | F53: – | G53: 1600 | H53: часов;
C54: свыше 20 лет | F54: – | G54: 1560 | H54: часов;
B55: б) | C55: для работников | F55: – | G55: 1440 | H55: часов.
A57: Учебная нагрузка профессорско-преподавательского состава:
C58: начальник (заведующий) кафедры (ой) | K58: – | L58: 450 | M58: – | N58: 890 | O58: часов; | Q58: =N58+IF($C$32="организации следственной работы",-100,IF($C$32="основ экспертно-криминалистической деятельности",-100,)) -> 890
C59: заместитель начальника кафедры | K59: – | L59: 470 | M59: – | N59: 892 | O59: часов; | Q59: =N59+IF($C$32="организации следственной работы",-100,IF($C$32="основ экспертно-криминалистической деятельности",-100,)) -> 892
C60: профессор | K60: – | L60: 500 | M60: – | N60: 894 | O60: часов; | Q60: =N60+IF($C$32="организации следственной работы",-100,IF($C$32="основ экспертно-криминалистической деятельности",-100,)) -> 894
C61: доцент | K61: – | L61: 520 | M61: – | N61: 896 | O61: часов; | Q61: =N61+IF($C$32="организации следственной работы",-100,IF($C$32="основ экспертно-криминалистической деятельности",-100,)) -> 896
C62: старший преподаватель | G62: (кандидат наук) | K62: – | L62: 520 | M62: – | N62: 898 | O62: часов; | Q62: =N62+IF($C$32="организации следственной работы",-100,IF($C$32="основ экспертно-криминалистической деятельности",-100,)) -> 898
C63: старший преподаватель | G63: (без ученой степени) | K63: – | L63: 580 | M63: – | N63: 898 | O63: часов; | Q63: =N63+IF($C$32="организации следственной работы",-100,IF($C$32="основ экспертно-криминалистической деятельности",-100,)) -> 898
C64: преподаватель | F64: (кандидат наук) | K64: – | L64: 580 | M64: – | N64: 900 | O64: часов; | Q64: =N64+IF($C$32="организации следственной работы",-100,IF($C$32="основ экспертно-криминалистической деятельности",-100,)) -> 900
C65: преподаватель | F65: (без ученой степени) | K65: – | L65: 600 | M65: – | N65: 900 | O65: часов. | Q65: =N65+IF($C$32="организации следственной работы",-100,IF($C$32="основ экспертно-криминалистической деятельности",-100,)) -> 900
A67: Минимальная нагрузка по научной деятельности, при условии пропорционального распределения научной и методической нагрузки:
C68: начальник (заведующий) кафедры (ой) | K68: не менее | M68: 220 | N68: часов;
C69: заместитель начальника кафедры | K69: не менее | M69: 220 | N69: часов;
...

Sheet Исходные
A1: - 3 -
A3: I. УЧЕБНАЯ РАБОТА
A4: 1.1. УЧЕБНАЯ РАБОТА С КУРСАНТАМИ
A5: 1.1.1 Исходные данные
A6: № п/п | B6: Наименование учебной дисциплины (курса) и вида учебной работы | C6: Где выполняются
C7: специальность | D7: лекционный поток, курс | E7: учебная группа
A50: - 4 -
A52: 1.2. УЧЕБНАЯ РАБОТА С ОБУЧАЮЩИМИСЯ ПО ЗАОЧНОЙ ФОРМЕ ОБУЧЕНИЯ
A53: 1.2.1 Исходные данные
A54: № п/п | B54: Наименование учебной дисциплины (курса) и вида учебной работы | C54: Где выполняются
C55: специальность | D55: лекционный поток, курс | E55: учебная группа

Sheet Распределение
A1: - 5 -
A3: РАСПРЕДЕЛЕНИЕ ГОДОВОГО БЮДЖЕТА СЛУЖЕБНОГО ВРЕМЕНИ
A4: НА ОСНОВНЫЕ ВИДЫ РАБОТ
A6: № п/п | B6: Наименование вида работ | C6: Количество часов
C7: I-е полугодие | E7: II-е полугодие | G7: Всего за год
C8: план | D8: выполнено | E8: план | F8: выполнено | G8: план | H8: выполнено
A9: I. | B9: Учебная работа
A10: 1.1. | B10: Учебная работа с курсантами | C10: ='Р. 1.1. ПЛАН'!C32 -> 0 | D10: ='Р. 1.1. Нагрузка'!Z12 -> 0 | E10: ='Р. 1.1. ПЛАН'!D32 -> 0 | F10: ='Р. 1.1. Нагрузка'!Z33 -> 0 | G10: =SUM(C10,E10) -> 0 | H10: =SUM(D10,F10) -> 0
A11: 1.2. | B11: Учебная работа с обучающимися по заочной форме обучения | C11: ='Р. 1.2. ПЛАН'!C31 -> 0 | D11: ='Р. 1.2. Нагрузка '!Z11 -> 0 | E11: ='Р. 1.2. ПЛАН'!D31 -> 0 | F11: ='Р. 1.2. Нагрузка '!Z32 -> 0 | G11: =SUM(C11,E11) -> 0
A12: 1.3. | B12: Учебная работа с сотрудниками проходящими повышение квалификации и переподготовку | C12: ='Р. 1.3. ПЛАН '!C31 -> 0 | D12: ='Р. 1.3. Нагрузка '!Z11 -> 0 | E12: ='Р. 1.3. ПЛАН '!D31 -> 0 | F12: ='Р. 1.3. Нагрузка '!Z32 -> 0 | G12: =SUM(C12,E12) -> 0 | H12: =SUM(D12,F12) -> 0
A13: 1.4. | B13: Учебная работа с сотрудниками обучающимися по программам профессональной подготовки | C13: ='Р. 1.4. ПЛАН'!C31 -> 0 | D13: ='Р. 1.4. Нагрузка '!Z11 -> 0 | E13: ='Р. 1.4. ПЛАН'!D31 -> 0 | F13: ='Р. 1.4. Нагрузка '!Z32 -> 0 | G13: =SUM(C13,E13) -> 0 | H13: =SUM(D13,F13) -> 0
B14: Всего | C14: =SUM(C10:C13) -> 0 | D14: =SUM(D10:D13) -> 0 | E14: =SUM(E10:E13) -> 0 | F14: =SUM(F10:F13) -> 0 | G14: =SUM(G10:G13) -> 0 | H14: =SUM(H10:H13) -> 0
A15: II. | B15: Методическая работа
A16: 2.1. | B16: Методическое обеспечение деятельности кафедры | C16: ='Раздел 2.1'!F64 -> 0 | D16: ='Раздел 2.1'!H64 -> 0 | E16: ='Раздел 2.1'!F133 -> 0 | F16: ='Раздел 2.1'!H133 -> 0 | G16: =SUM(C16,E16) -> 0 | H16: =SUM(D16,F16) -> 0
A17: 2.2. | B17: Разработка учебно-методических материалов для обучающихся по заочной форме обучения | C17: ='Раздел 2.2'!F30 -> 0 | D17: ='Раздел 2.2'!H30 -> 0 | E17: ='Раздел 2.2'!F65 -> 0 | F17: ='Раздел 2.2'!H65 -> 0 | G17: =SUM(C17,E17) -> 0 | H17: =SUM(D17,F17) -> 0
B18: Всего | C18: =SUM(C16:C17) -> 0 | D18: =SUM(D16:D17) -> 0 | E18: =SUM(E16:E17) -> 0 | F18: =SUM(F16:F17) -> 0 | G18: =SUM(G16:G17) -> 0 | H18: =SUM(H16:H17) -> 0
A19: III. | B19: Научно-исследовательская работа
A20: 3.1. | B20: Научно-исследовательская работа преподавателя, научное руководство и консультирование | C20: ='Раздел 3.1'!F64 -> 0 | D20: ='Раздел 3.1'!H64 -> 0 | E20: ='Раздел 3.1'!F133 -> 0 | F20: ='Раздел 3.1'!H139 -> 0 | G20: =SUM(C20,E20) -> 0 | H20: =SUM(D20,F20) -> 0
A21: 3.2. | B21: Научно-исследовательская работа с обучающимися по заочной форме обучения | C21: ='Раздел 3.2'!F30 -> 0 | D21: ='Раздел 3.2'!H30 -> 0 | E21: ='Раздел 3.2'!F65 -> 0 | F21: ='Раздел 3.2'!H65 -> 0 | G21: =SUM(C21,E21) -> 0 | H21: =SUM(D21,F21) -> 0
B22: Всего | C22: =SUM(C20:C21) -> 0 | D22: =SUM(D20:D21) -> 0 | E22: =SUM(E20:E21) -> 0 | F22: =SUM(F20:F21) -> 0 | G22: =SUM(G20:G21) -> 0 | H22: =SUM(H20:H21) -> 0
A23: IV. | B23: Мероприятия по морально-психологическому обеспечению учебного процесса и служебной деятельности
A24: 4.1. | B24: Организация проведения работы по направлениям морально-психологического обеспечения учебно-воспитательного процесса | C24: ='Раздел 4.1'!F31 -> 0 | D24: ='Раздел 4.1'!H31 -> 0 | E24: ='Раздел 4.1'!F66 -> 0 | F24: ='Раздел 4.1'!H66 -> 0 | G24: =SUM(C24,E24) -> 0 | H24: =SUM(D24,F24) -> 0
A25: 4.2. | B25: Воспитательная работа с обучающимися по заочной форме обучения | C25: ='Раздел 4.2 '!F30 -> 0 | D25: ='Раздел 4.2 '!H30 -> 0 | E25: ='Раздел 4.2 '!F65 -> 0 | F25: ='Раздел 4.2 '!H65 -> 0 | G25: =SUM(C25,E25) -> 0 | H25: =SUM(D25,F25) -> 0
B26: Всего | C26: =SUM(C24:C25) -> 0 | D26: =SUM(D24:D25) -> 0 | E26: =SUM(E24:E25) -> 0 | F26: =SUM(F24:F25) -> 0 | G26: =SUM(G24:G25) -> 0 | H26: =SUM(H24:H25) -> 0
A27: V. | B27: Другие виды работы
B28: Всего | C28: ='Раздел V'!F30 -> 0 | D28: ='Раздел V'!H30 -> 0 | E28: ='Раздел V'!F65 -> 0 | F28: ='Раздел V'!H65 -> 0 | G28: =SUM(C28,E28) -> 0 | H28: =SUM(D28,F28) -> 0
B31: Всего | C31: =SUM(C14,C18,C22,C26,C28) -> 0 | D31: =SUM(D14,D18,D22,D26,D28) -> 0 | E31: =SUM(E14,E18,E22,E26,E28) -> 0 | F31: =SUM(F14,F18,F22,F26,F28) -> 0 | G31: =SUM(G14,G18,G22,G26,G28) -> 0 | H31: =SUM(H14,H18,H22,H26,H28) -> 0

Sheet Р. 1.1. ПЛАН
A1: - 6 -
A3: I. УЧЕБНАЯ РАБОТА
A4: 1.1. УЧЕБНАЯ РАБОТА С КУРСАНТАМИ
A5: 1.1.2. Планирование учебной работы с курсантами
A6: № п/п | B6: Вид учебной работы | C6: Количество учебных часов
C7: 1-е полугодие | D7: 2 -е полугодие | E7: Всего за год
B9: Учебная работа по расписанию
A10: 1. | B10: Чтение лекций | E10: =SUM(C10:D10) -> 0
A11: 2. | B11: Проведение семинаров | E11: =SUM(C11:D11) -> 0
A12: 3. | B12: Проведение практических, лабораторных занятий | E12: =SUM(C12:D12) -> 0
A13: 4. | B13: Проведение игр и учений | E13: =SUM(C13:D13) -> 0
A14: 5. | B14: Прием зачетов | E14: =SUM(C14:D14) -> 0
A15: 6. | B15: Прием экзаменов | E15: =SUM(C15:D15) -> 0
A16: 7. | B16: Прием государственных экзаменов | E16: =SUM(C16:D16) -> 0
A17: 8. | B17: Прием защиты выпускных квалификационных работ | E17: =SUM(C17:D17) -> 0
A18: 9. | B18: Прием вступительных экзаменов, выходного, выходного контроля | E18: =SUM(C18:D18) -> 0
B19: Всего | C19: =SUM(C10:C18) -> 0 | D19: =SUM(D10:D18) -> 0 | E19: =SUM(E10:E18) -> 0
B20: Другие виды учебной работы
A21: 10. | B21: Проведение консультаций | E21: =SUM(C21:D21) -> 0
A22: 11. | B22: Руководство практикой | E22: =SUM(C22:D22) -> 0
A23: 12. | B23: Руководство курсовыми работами, включая их защиту | E23: =SUM(C23:D23) -> 0
A24: 13. | B24: Руководство выпускными квалификационными работами | E24: =SUM(C24:D24) -> 0
A25: 14. | B25: Научное руководство адъюнктами, соискателями | E25: =SUM(C25:D25) -> 0
A26: 15. | B26: Проверка практикумов | E26: =SUM(C26:D26) -> 0
A27: 16. | B27: Проверка практических, лабораторных, контрольных работ и контрольных экспертиз | E27: =SUM(C27:D27) -> 0
A28: 17. | B28: Рецензирование рефератов | E28: =SUM(C28:D28) -> 0
A29: 18. | B29: Рецензирование выпускных квалификационных работ | E29: =SUM(C29:D29) -> 0
A30: 19. | B30: Прием внеаудиторного чтения | E30: =SUM(C30:D30) -> 0
B31: Всего | C31: =SUM(C21:C30) -> 0 | D31: =SUM(D21:D30) -> 0 | E31: =SUM(E21:E30) -> 0
B32: Итоги по учебной работе | C32: =SUM(C19,C31) -> 0 | D32: =SUM(D19,D31) -> 0 | E32: =SUM(E19,E31) -> 0

Sheet Р. 1.2. ПЛАН
A1: - 7 -
A3: 1.2. УЧЕБНАЯ РАБОТА С ОБУЧАЮЩИМИСЯ ПО ЗАОЧНОЙ ФОРМЕ ОБУЧЕНИЯ
A4: 1.2.2. Планирование учебной работы с обучающимися по заочной форме обучения
A5: № п/п | B5: Вид учебной работы | C5: Количество учебных часов
C6: 1-е полугодие | D6: 2 -е полугодие | E6: Всего за год
B8: Учебная работа по расписанию
A9: 1. | B9: Чтение лекций | E9: =SUM(C9:D9) -> 0
A10: 2. | B10: Проведение семинаров | E10: =SUM(C10:D10) -> 0
A11: 3. | B11: Проведение практических, лабораторных занятий | E11: =SUM(C11:D11) -> 0
A12: 4. | B12: Проведение игр и учений | E12: =SUM(C12:D12) -> 0
A13: 5. | B13: Прием зачетов | E13: =SUM(C13:D13) -> 0
A14: 6. | B14: Прием экзаменов | E14: =SUM(C14:D14) -> 0
A15: 7. | B15: Прием государственных экзаменов | E15: =SUM(C15:D15) -> 0
A16: 8. | B16: Прием защиты выпускных квалификационных работ | E16: =SUM(C16:D16) -> 0
A17: 9. | B17: Прием вступительных экзаменов, выходного, выходного контроля | E17: =SUM(C17:D17) -> 0
B18: Всего | C18: =SUM(C9:C17) -> 0 | D18: =SUM(D9:D17) -> 0 | E18: =SUM(E8:E17) -> 0
B19: Другие виды учебной работы
A20: 10. | B20: Проведение консультаций | E20: =SUM(C20:D20) -> 0
A21: 11. | B21: Руководство практикой | E21: =SUM(C21:D21) -> 0
A22: 12. | B22: Руководство курсовыми работами, включая их защиту | E22: =SUM(C22:D22) -> 0
A23: 13. | B23: Руководство выпускными квалификационными работами | E23: =SUM(C23:D23) -> 0
A24: 14. | B24: Научное руководство адъюнктами, соискателями | E24: =SUM(C24:D24) -> 0
A25: 15. | B25: Проверка практикумов | E25: =SUM(C25:D25) -> 0
A26: 16. | B26: Проверка практических, лабораторных, контрольных работ и контрольных экспертиз | E26: =SUM(C26:D26) -> 0
A27: 17. | B27: Рецензирование рефератов | E27: =SUM(C27:D27) -> 0
A28: 18. | B28: Рецензирование выпускных квалификационных работ | E28: =SUM(C28:D28) -> 0
A29: 19. | B29: Прием внеаудиторного чтения | E29: =SUM(C29:D29) -> 0
B30: Всего | C30: =SUM(C20:C29) -> 0 | D30: =SUM(D20:D29) -> 0 | E30: =SUM(E20:E29) -> 0
B31: Итоги по учебной работе | C31: =SUM(C18,C30) -> 0 | D31: =SUM(D18,D30) -> 0 | E31: =SUM(E18,E30) -> 0

Sheet Р. 1.3. ПЛАН 
A1: - 8 -
A3: 1.3. УЧЕБНАЯ РАБОТА С СОТРУДНИКАМИ ПРОХОДЯЩИМИ ПОВЫШЕНИЕ КВАЛИФИКАЦИИ И ПЕРЕПОДГОТОВКУ
A4: 1.3.2. Планирование учебной работы по повышению квалификации
A5: № п/п | B5: Вид учебной работы | C5: Количество учебных часов
C6: 1-е полугодие | D6: 2 -е полугодие | E6: Всего за год
B8: Учебная работа по расписанию
A9: 1. | B9: Чтение лекций | E9: =SUM(C9:D9) -> 0
A10: 2. | B10: Проведение семинаров | E10: =SUM(C10:D10) -> 0
A11: 3. | B11: Проведение практических, лабораторных занятий | E11: =SUM(C11:D11) -> 0
A12: 4. | B12: Проведение игр и учений | E12: =SUM(C12:D12) -> 0
A13: 5. | B13: Прием зачетов | E13: =SUM(C13:D13) -> 0
A14: 6. | B14: Прием экзаменов | E14: =SUM(C14:D14) -> 0
A15: 7. | B15: Прием государственных экзаменов | E15: =SUM(C15:D15) -> 0
A16: 8. | B16: Прием защиты выпускных квалификационных работ | E16: =SUM(C16:D16) -> 0
A17: 9. | B17: Прием вступительных экзаменов, выходного, выходного контроля | E17: =SUM(C17:D17) -> 0
B18: Всего | C18: =SUM(C9:C17) -> 0 | D18: =SUM(D9:D17) -> 0 | E18: =SUM(E8:E17) -> 0
B19: Другие виды учебной работы
A20: 10. | B20: Проведение консультаций | E20: =SUM(C20:D20) -> 0
A21: 11. | B21: Руководство практикой | E21: =SUM(C21:D21) -> 0
A22: 12. | B22: Руководство курсовыми работами, включая их защиту | E22: =SUM(C22:D22) -> 0
A23: 13. | B23: Руководство выпускными квалификационными работами | E23: =SUM(C23:D23) -> 0
A24: 14. | B24: Научное руководство адъюнктами, соискателями | E24: =SUM(C24:D24) -> 0
A25: 15. | B25: Проверка практикумов | E25: =SUM(C25:D25) -> 0
A26: 16. | B26: Проверка практических, лабораторных, контрольных работ и контрольных экспертиз | E26: =SUM(C26:D26) -> 0
A27: 17. | B27: Рецензирование рефератов | E27: =SUM(C27:D27) -> 0
A28: 18. | B28: Рецензирование выпускных квалификационных работ | E28: =SUM(C28:D28) -> 0
A29: 19. | B29: Прием внеаудиторного чтения | E29: =SUM(C29:D29) -> 0
B30: Всего | C30: =SUM(C20:C29) -> 0 | D30: =SUM(D20:D29) -> 0 | E30: =SUM(E20:E29) -> 0
B31: Итоги по учебной работе | C31: =SUM(C18,C30) -> 0 | D31: =SUM(D18,D30) -> 0 | E31: =SUM(E18,E30) -> 0

Sheet Р. 1.4. ПЛАН
A1: - 9 -
A3: 1.4. УЧЕБНАЯ РАБОТА С СОТРУДНИКАМИ ОБУЧАЮЩИМИСЯ ПО ПРОГРАММАМ ПРОФЕССИОНАЛЬНОЙ ПОДГОТОВКИ
A4: 1.4.2. Планирование учебной работы по профессиональной подготовке
A5: № п/п | B5: Вид учебной работы | C5: Количество учебных часов
C6: 1-е полугодие | D6: 2 -е полугодие | E6: Всего за год
B8: Учебная работа по расписанию
A9: 1. | B9: Чтение лекций | E9: =SUM(C9:D9) -> 0
A10: 2. | B10: Проведение семинаров | E10: =SUM(C10:D10) -> 0
A11: 3. | B11: Проведение практических, лабораторных занятий | E11: =SUM(C11:D11) -> 0
A12: 4. | B12: Проведение игр и учений | E12: =SUM(C12:D12) -> 0
A13: 5. | B13: Прием зачетов | E13: =SUM(C13:D13) -> 0
A14: 6. | B14: Прием экзаменов | E14: =SUM(C14:D14) -> 0
A15: 7. | B15: Прием государственных экзаменов | E15: =SUM(C15:D15) -> 0
A16: 8. | B16: Прием защиты выпускных квалификационных работ | E16: =SUM(C16:D16) -> 0
A17: 9. | B17: Прием вступительных экзаменов, выходного, выходного контроля | E17: =SUM(C17:D17) -> 0
B18: Всего | C18: =SUM(C9:C17) -> 0 | D18: =SUM(D9:D17) -> 0 | E18: =SUM(E8:E17) -> 0
B19: Другие виды учебной работы
A20: 10. | B20: Проведение консультаций | E20: =SUM(C20:D20) -> 0
A21: 11. | B21: Руководство практикой | E21: =SUM(C21:D21) -> 0
A22: 12. | B22: Руководство курсовыми работами, включая их защиту | E22: =SUM(C22:D22) -> 0
A23: 13. | B23: Руководство выпускными квалификационными работами | E23: =SUM(C23:D23) -> 0
A24: 14. | B24: Научное руководство адъюнктами, соискателями | E24: =SUM(C24:D24) -> 0
A25: 15. | B25: Проверка практикумов | E25: =SUM(C25:D25) -> 0
A26: 16. | B26: Проверка практических, лабораторных, контрольных работ и контрольных экспертиз | E26: =SUM(C26:D26) -> 0
A27: 17. | B27: Рецензирование рефератов | E27: =SUM(C27:D27) -> 0
A28: 18. | B28: Рецензирование выпускных квалификационных работ | E28: =SUM(C28:D28) -> 0
A29: 19. | B29: Прием внеаудиторного чтения | E29: =SUM(C29:D29) -> 0
B30: Всего | C30: =SUM(C20:C29) -> 0 | D30: =SUM(D20:D29) -> 0 | E30: =SUM(E20:E29) -> 0
B31: Итоги по учебной работе | C31: =SUM(C18,C30) -> 0 | D31: =SUM(D18,D30) -> 0 | E31: =SUM(E18,E30) -> 0

Sheet Р. 1.1. Нагрузка
A1: - 10 -
A3: I. УЧЕБНАЯ РАБОТА
A4: 1.1. УЧЕБНАЯ РАБОТА C КУРСАНТАМИ
A5: 1.1.3. Учет выполнения учебной работы (1-е полугодие)
A6: Вид учебной работы Месяц | C6: Учебная работа по расписанию | N6: Другие виды учебной работы | Z6: Итого
C7: Чтение лекций | D7: Проведение семинаров | E7: Проведение практ., лаборатор. занятий | F7: Проведение игр и учений | G7: Прием зачетов | H7: Прием экзаменов | I7: Прием государственных экзаменов | J7: Прием защиты выпускных квалификационных работ | K7: Прием вступительних экзаменов, входного, выходного контроля | L7: Всего учебной работы по расписанию | M7: План на полугодие | N7: Проведение консультаций | O7: Руководство практикой | P7: Руководство курсовыми работами, включая их защиту | Q7: Руководство выпускными квалификационными работами | R7: Научное руководство адъюнктими, соискателями | S7: Проверка практикумов | T7: Проверка практ., лабор., контр. работ и контр. экспертиз | U7: Рецензирование рефератов | V7: Рецензирование выпускных квалификационных работ | W7: Прием внеаудиторного чтения | X7: Всего по другим видам учебной нагрузки | Y7: План на полугодие | Z7: Выполнено учебной нагрузки | AA7: План учебной нагрузки
A8: Сентябрь | L8: =SUM(C8:K8) -> 0 | X8: =SUM(N8:W8) -> 0 | Z8: =SUM(L8,X8) -> 0
A9: Октябрь | L9: =SUM(C9:K9) -> 0 | X9: =SUM(N9:W9) -> 0 | Z9: =SUM(L9,X9) -> 0
A10: Ноябрь | L10: =SUM(C10:K10) -> 0 | X10: =SUM(N10:W10) -> 0 | Z10: =SUM(L10,X10) -> 0
A11: Декабрь | L11: =SUM(C11:K11) -> 0 | X11: =SUM(N11:W11) -> 0 | Z11: =SUM(L11,X11) -> 0
A12: Всего за полугодие | C12: =SUM(C8:C11) -> 0 | D12: =SUM(D8:D11) -> 0 | E12: =SUM(E8:E11) -> 0 | F12: =SUM(F8:F11) -> 0 | G12: =SUM(G8:G11) -> 0 | H12: =SUM(H8:H11) -> 0 | I12: =SUM(I8:I11) -> 0 | J12: =SUM(J8:J11) -> 0 | ... L12: =SUM(L8:L11) -> 0 | N12: =SUM(N8:N11) -> 0 | O12: =SUM(O8:O11) -> 0 | P12: =SUM(P8:P11) -> 0 | Q12: =SUM(Q8:Q11) -> 0 | R12: =SUM(R8:R11) -> 0 | S12: =SUM(S8:S11) -> 0 | T12: =SUM(T8:T11) -> 0 | U12: =SUM(U8:U11) -> 0 | ... X12: =SUM(X8:X11) -> 0 | Z12: =SUM(Z8:Z11) -> 0 | AA12: =SUM(M12,Y12) -> 0
O16: Выполнение проверил
E17: подпись преподавателя | S17: подпись начальника кафедры
A20: - 11 -
A22: 1.1.3. Учет выполнения учебной работы (2-е полугодие)
A23: Вид учебной работы Месяц | C23: Учебная работа по расписанию | N23: Другие виды учебной работы | Z23: Итого
C24: Чтение лекций | D24: Проведение семинаров | E24: Проведение практ., лаборатор. занятий | F24: Проведение игр и учений | G24: Прием зачетов | H24: Прием экзаменов | I24: Прием государственных экзаменов | J24: Прием защиты выпускных квалификационных работ | K24: Прием вступительних экзаменов, входного, выходного контроля | L24: Всего учебной работы по расписанию | M24: План на полугодие | N24: Проведение консультаций | O24: Руководство практикой | P24: Руководство курсовыми работами, включая их защиту | Q24: Руководство выпускными квалификационными работами | R24: Научное руководство адъюнктими, соискателями | S24: Проверка практикумов | T24: Проверка практ., лабор., контр. работ и контр. экспертиз | U24: Рецензирование рефератов | V24: Рецензирование выпускных квалификационных работ | W24: Прием внеаудиторного чтения | X24: Всего по другим видам учебной нагрузки | Y24: План на полугодие | Z24: Выполнено учебной нагрузки | AA24: План учебной нагрузки
A25: Январь | L25: =SUM(C25:K25) -> 0 | X25: =SUM(N25:W25) -> 0 | Z25: =SUM(L25,X25) -> 0
A26: Февраль | L26: =SUM(C26:K26) -> 0 | X26: =SUM(N26:W26) -> 0 | Z26: =SUM(L26,X26) -> 0
A27: Март | L27: =SUM(C27:K27) -> 0 | X27: =SUM(N27:W27) -> 0 | Z27: =SUM(L27,X27) -> 0
A28: Апрель | L28: =SUM(C28:K28) -> 0 | X28: =SUM(N28:W28) -> 0 | Z28: =SUM(L28,X28) -> 0
A29: Май | L29: =SUM(C29:K29) -> 0 | X29: =SUM(N29:W29) -> 0 | Z29: =SUM(L29,X29) -> 0
A30: Июнь | L30: =SUM(C30:K30) -> 0 | X30: =SUM(N30:W30) -> 0 | Z30: =SUM(L30,X30) -> 0
A31: Июль | L31: =SUM(C31:K31) -> 0 | X31: =SUM(N31:W31) -> 0 | Z31: =SUM(L31,X31) -> 0
A32: Август | L32: =SUM(C32:K32) -> 0 | X32: =SUM(N32:W32) -> 0 | Z32: =SUM(L32,X32) -> 0
A33: Всего за полугодие | C33: =SUM(C25:C32) -> 0 | D33: =SUM(D25:D32) -> 0 | E33: =SUM(E25:E32) -> 0 | F33: =SUM(F25:F32) -> 0 | G33: =SUM(G25:G32) -> 0 | H33: =SUM(H25:H32) -> 0 | I33: =SUM(I25:I32) -> 0 | J33: =SUM(J25:J32) -> 0 | ... L33: =SUM(L25:L32) -> 0 | N33: =SUM(N25:N32) -> 0 | O33: =SUM(O25:O32) -> 0 | P33: =SUM(P25:P32) -> 0 | Q33: =SUM(Q25:Q32) -> 0 | R33: =SUM(R25:R32) -> 0 | S33: =SUM(S25:S32) -> 0 | T33: =SUM(T25:T32) -> 0 | U33: =SUM(U25:U32) -> 0 | ... X33: =SUM(X25:X32) -> 0 | Z33: =SUM(Z25:Z32) -> 0 | AA33: =SUM(M33,Y33) -> 0
A34: Всего за год | C34: =SUM(C12,C33) -> 0 | D34: =SUM(D12,D33) -> 0 | E34: =SUM(E12,E33) -> 0 | F34: =SUM(F12,F33) -> 0 | G34: =SUM(G12,G33) -> 0 | H34: =SUM(H12,H33) -> 0 | I34: =SUM(I12,I33) -> 0 | J34: =SUM(J12,J33) -> 0 | ... L34: =SUM(L12,L33) -> 0 | N34: =SUM(N12,N33) -> 0 | O34: =SUM(O12,O33) -> 0 | P34: =SUM(P12,P33) -> 0 | Q34: =SUM(Q12,Q33) -> 0 | R34: =SUM(R12,R33) -> 0 | S34: =SUM(S12,S33) -> 0 | T34: =SUM(T12,T33) -> 0 | U34: =SUM(U12,U33) -> 0 | ... X34: =SUM(X12,X33) -> 0 | Y34: =SUM(Y33,Y12) -> 0 | Z34: =SUM(Z33,Z12) -> 0 | AA34: =SUM(M34,Y34) -> 0
O36: Выполнение проверил
E37: подпись преподавателя | S37: подпись начальника кафедры

Sheet Р. 1.2. Нагрузка 
A1: - 12 -
A3: 1.2. УЧЕБНАЯ РАБОТА C ОБУЧАЮЩИМИСЯ ПО ЗАОЧНОЙ ФОРМЕ ОБУЧЕНИЯ
A4: 1.2.3. Учет выполнения учебной работы (1-е полугодие)
A5: Вид учебной работы Месяц | C5: Учебная работа по расписанию | N5: Другие виды учебной работы | Z5: Итого
C6: Чтение лекций | D6: Проведение семинаров | E6: Проведение практ., лаборатор. занятий | F6: Проведение игр и учений | G6: Прием зачетов | H6: Прием экзаменов | I6: Прием государственных экзаменов | J6: Прием защиты выпускных квалификационных работ | K6: Прием вступительних экзаменов, входного, выходного контроля | L6: Всего учебной работы по расписанию | M6: План на полугодие | N6: Проведение консультаций | O6: Руководство практикой | P6: Руководство курсовыми работами, включая их защиту | Q6: Руководство выпускными квалификационными работами | R6: Научное руководство адъюнктими, соискателями | S6: Проверка практикумов | T6: Проверка практ., лабор., контр. работ и контр. экспертиз | U6: Рецензирование рефератов | V6: Рецензирование выпускных квалификационных работ | W6: Прием внеаудиторного чтения | X6: Всего по другим видам учебной нагрузки | Y6: План на полугодие | Z6: Выполнено учебной нагрузки | AA6: План учебной нагрузки
A7: Сентябрь | L7: =SUM(C7:K7) -> 0 | X7: =SUM(N7:W7) -> 0 | Z7: =SUM(L7,X7) -> 0
A8: Октябрь | L8: =SUM(C8:K8) -> 0 | X8: =SUM(N8:W8) -> 0 | Z8: =SUM(L8,X8) -> 0
A9: Ноябрь | L9: =SUM(C9:K9) -> 0 | X9: =SUM(N9:W9) -> 0 | Z9: =SUM(L9,X9) -> 0
A10: Декабрь | L10: =SUM(C10:K10) -> 0 | X10: =SUM(N10:W10) -> 0 | Z10: =SUM(L10,X10) -> 0
A11: Всего за полугодие | C11: =SUM(C7:C10) -> 0 | D11: =SUM(D7:D10) -> 0 | E11: =SUM(E7:E10) -> 0 | F11: =SUM(F7:F10) -> 0 | G11: =SUM(G7:G10) -> 0 | H11: =SUM(H7:H10) -> 0 | I11: =SUM(I7:I10) -> 0 | J11: =SUM(J7:J10) -> 0 | ... L11: =SUM(L7:L10) -> 0 | N11: =SUM(N7:N10) -> 0 | O11: =SUM(O7:O10) -> 0 | P11: =SUM(P7:P10) -> 0 | Q11: =SUM(Q7:Q10) -> 0 | R11: =SUM(R7:R10) -> 0 | S11: =SUM(S7:S10) -> 0 | T11: =SUM(T7:T10) -> 0 | U11: =SUM(U7:U10) -> 0 | ... X11: =SUM(X7:X10) -> 0 | Z11: =SUM(Z7:Z10) -> 0 | AA11: =SUM(M11,Y11) -> 0
O15: Выполнение проверил
E16: подпись преподавателя | S16: подпись начальника кафедры
A19: - 13 -
A21: 1.2.3. Учет выполнения учебной работы (2-е полугодие)
A22: Вид учебной работы Месяц | C22: Учебная работа по расписанию | N22: Другие виды учебной работы | Z22: Итого
C23: Чтение лекций | D23: Проведение семинаров | E23: Проведение практ., лаборатор. занятий | F23: Проведение игр и учений | G23: Прием зачетов | H23: Прием экзаменов | I23: Прием государственных экзаменов | J23: Прием защиты выпускных квалификационных работ | K23: Прием вступительних экзаменов, входного, выходного контроля | L23: Всего учебной работы по расписанию | M23: План на полугодие | N23: Проведение консультаций | O23: Руководство практикой | P23: Руководство курсовыми работами, включая их защиту | Q23: Руководство выпускными квалификационными работами | R23: Научное руководство адъюнктими, соискателями | S23: Проверка практикумов | T23: Проверка практ., лабор., контр. работ и контр. экспертиз | U23: Рецензирование рефератов | V23: Рецензирование выпускных квалификационных работ | W23: Прием внеаудиторного чтения | X23: Всего по другим видам учебной нагрузки | Y23: План на полугодие | Z23: Выполнено учебной нагрузки | AA23: План учебной нагрузки
A24: Январь | L24: =SUM(C24:K24) -> 0 | X24: =SUM(N24:W24) -> 0 | Z24: =SUM(L24,X24) -> 0
A25: Февраль | L25: =SUM(C25:K25) -> 0 | X25: =SUM(N25:W25) -> 0 | Z25: =SUM(L25,X25) -> 0
A26: Март | L26: =SUM(C26:K26) -> 0 | X26: =SUM(N26:W26) -> 0 | Z26: =SUM(L26,X26) -> 0
A27: Апрель | L27: =SUM(C27:K27) -> 0 | X27: =SUM(N27:W27) -> 0 | Z27: =SUM(L27,X27) -> 0
A28: Май | L28: =SUM(C28:K28) -> 0 | X28: =SUM(N28:W28) -> 0 | Z28: =SUM(L28,X28) -> 0
A29: Июнь | L29: =SUM(C29:K29) -> 0 | X29: =SUM(N29:W29) -> 0 | Z29: =SUM(L29,X29) -> 0
A30: Июль | L30: =SUM(C30:K30) -> 0 | X30: =SUM(N30:W30) -> 0 | Z30: =SUM(L30,X30) -> 0
A31: Август | L31: =SUM(C31:K31) -> 0 | X31: =SUM(N31:W31) -> 0 | Z31: =SUM(L31,X31) -> 0
A32: Всего за полугодие | C32: =SUM(C24:C31) -> 0 | D32: =SUM(D24:D31) -> 0 | E32: =SUM(E24:E31) -> 0 | F32: =SUM(F24:F31) -> 0 | G32: =SUM(G24:G31) -> 0 | H32: =SUM(H24:H31) -> 0 | I32: =SUM(I24:I31) -> 0 | J32: =SUM(J24:J31) -> 0 | ... L32: =SUM(L24:L31) -> 0 | N32: =SUM(N24:N31) -> 0 | O32: =SUM(O24:O31) -> 0 | P32: =SUM(P24:P31) -> 0 | Q32: =SUM(Q24:Q31) -> 0 | R32: =SUM(R24:R31) -> 0 | S32: =SUM(S24:S31) -> 0 | T32: =SUM(T24:T31) -> 0 | U32: =SUM(U24:U31) -> 0 | ... X32: =SUM(X24:X31) -> 0 | Z32: =SUM(Z24:Z31) -> 0 | AA32: =SUM(M32,Y32) -> 0
A33: Всего за год | C33: =SUM(C11,C32) -> 0 | D33: =SUM(D11,D32) -> 0 | E33: =SUM(E11,E32) -> 0 | F33: =SUM(F11,F32) -> 0 | G33: =SUM(G11,G32) -> 0 | H33: =SUM(H11,H32) -> 0 | I33: =SUM(I11,I32) -> 0 | J33: =SUM(J11,J32) -> 0 | ... X33: =SUM(X11,X32) -> 0 | Y33: =SUM(Y32) -> 0 | Z33: =SUM(Z11,Z32) -> 0 | AA33: =SUM(M33,Y33) -> 0
O35: Выполнение проверил
E36: подпись преподавателя | S36: подпись начальника кафедры

Sheet Р. 1.3. Нагрузка 
A1: - 14 -
A3: 1.3. УЧЕБНАЯ РАБОТА С СОТРУДНИКАМИ ПРОХОДЯЩИМИ ПОВЫШЕНИЕ КВАЛИФИКАЦИИ И ПЕРЕПОДГОТОВКУ
A4: 1.3.3. Учет выполнения учебной работы (1-е полугодие)
A5: Вид учебной работы Месяц | C5: Учебная работа по расписанию | N5: Другие виды учебной работы | Z5: Итого
C6: Чтение лекций | D6: Проведение семинаров | E6: Проведение практ., лаборатор. занятий | F6: Проведение игр и учений | G6: Прием зачетов | H6: Прием экзаменов | I6: Прием государственных экзаменов | J6: Прием защиты выпускных квалификационных работ | K6: Прием вступительних экзаменов, входного, выходного контроля | L6: Всего учебной работы по расписанию | M6: План на полугодие | N6: Проведение консультаций | O6: Руководство практикой | P6: Руководство курсовыми работами, включая их защиту | Q6: Руководство выпускными квалификационными работами | R6: Научное руководство адъюнктими, соискателями | S6: Проверка практикумов | T6: Проверка практ., лабор., контр. работ и контр. экспертиз | U6: Рецензирование рефератов | V6: Рецензирование выпускных квалификационных работ | W6: Прием внеаудиторного чтения | X6: Всего по другим видам учебной нагрузки | Y6: План на полугодие | Z6: Выполнено учебной нагрузки | AA6: План учебной нагрузки
A7: Сентябрь | L7: =SUM(C7:K7) -> 0 | X7: =SUM(N7:W7) -> 0 | Z7: =SUM(L7,X7) -> 0
A8: Октябрь | L8: =SUM(C8:K8) -> 0 | X8: =SUM(N8:W8) -> 0 | Z8: =SUM(L8,X8) -> 0
A9: Ноябрь | L9: =SUM(C9:K9) -> 0 | X9: =SUM(N9:W9) -> 0 | Z9: =SUM(L9,X9) -> 0
A10: Декабрь | L10: =SUM(C10:K10) -> 0 | X10: =SUM(N10:W10) -> 0 | Z10: =SUM(L10,X10) -> 0
A11: Всего за полугодие | C11: =SUM(C7:C10) -> 0 | D11: =SUM(D7:D10) -> 0 | E11: =SUM(E7:E10) -> 0 | F11: =SUM(F7:F10) -> 0 | G11: =SUM(G7:G10) -> 0 | H11: =SUM(H7:H10) -> 0 | I11: =SUM(I7:I10) -> 0 | J11: =SUM(J7:J10) -> 0 | ... L11: =SUM(L7:L10) -> 0 | N11: =SUM(N7:N10) -> 0 | O11: =SUM(O7:O10) -> 0 | P11: =SUM(P7:P10) -> 0 | Q11: =SUM(Q7:Q10) -> 0 | R11: =SUM(R7:R10) -> 0 | S11: =SUM(S7:S10) -> 0 | T11: =SUM(T7:T10) -> 0 | U11: =SUM(U7:U10) -> 0 | ... X11: =SUM(X7:X10) -> 0 | Z11: =SUM(Z7:Z10) -> 0 | AA11: =SUM(M11,Y11) -> 0
O15: Выполнение проверил
E16: подпись преподавателя | S16: подпись начальника кафедры
A19: - 15 -
A21: 1.3.3. Учет выполнения учебной работы (2-е полугодие)
A22: Вид учебной работы Месяц | C22: Учебная работа по расписанию | N22: Другие виды учебной работы | Z22: Итого
C23: Чтение лекций | D23: Проведение семинаров | E23: Проведение практ., лаборатор. занятий | F23: Проведение игр и учений | G23: Прием зачетов | H23: Прием экзаменов | I23: Прием государственных экзаменов | J23: Прием защиты выпускных квалификационных работ | K23: Прием вступительних экзаменов, входного, выходного контроля | L23: Всего учебной работы по расписанию | M23: План на полугодие | N23: Проведение консультаций | O23: Руководство практикой | P23: Руководство курсовыми работами, включая их защиту | Q23: Руководство выпускными квалификационными работами | R23: Научное руководство адъюнктими, соискателями | S23: Проверка практикумов | T23: Проверка практ., лабор., контр. работ и контр. экспертиз | U23: Рецензирование рефератов | V23: Рецензирование выпускных квалификационных работ | W23: Прием внеаудиторного чтения | X23: Всего по другим видам учебной нагрузки | Y23: План на полугодие | Z23: Выполнено учебной нагрузки | AA23: План учебной нагрузки
A24: Январь | L24: =SUM(C24:K24) -> 0 | X24: =SUM(N24:W24) -> 0 | Z24: =SUM(L24,X24) -> 0
A25: Февраль | L25: =SUM(C25:K25) -> 0 | X25: =SUM(N25:W25) -> 0 | Z25: =SUM(L25,X25) -> 0
A26: Март | L26: =SUM(C26:K26) -> 0 | X26: =SUM(N26:W26) -> 0 | Z26: =SUM(L26,X26) -> 0
A27: Апрель | L27: =SUM(C27:K27) -> 0 | X27: =SUM(N27:W27) -> 0 | Z27: =SUM(L27,X27) -> 0
A28: Май | L28: =SUM(C28:K28) -> 0 | X28: =SUM(N28:W28) -> 0 | Z28: =SUM(L28,X28) -> 0
A29: Июнь | L29: =SUM(C29:K29) -> 0 | X29: =SUM(N29:W29) -> 0 | Z29: =SUM(L29,X29) -> 0
A30: Июль | L30: =SUM(C30:K30) -> 0 | X30: =SUM(N30:W30) -> 0 | Z30: =SUM(L30,X30) -> 0
A31: Август | L31: =SUM(C31:K31) -> 0 | X31: =SUM(N31:W31) -> 0 | Z31: =SUM(L31,X31) -> 0
A32: Всего за полугодие | C32: =SUM(C24:C31) -> 0 | D32: =SUM(D24:D31) -> 0 | E32: =SUM(E24:E31) -> 0 | F32: =SUM(F24:F31) -> 0 | G32: =SUM(G24:G31) -> 0 | H32: =SUM(H24:H31) -> 0 | I32: =SUM(I24:I31) -> 0 | J32: =SUM(J24:J31) -> 0 | ... L32: =SUM(L24:L31) -> 0 | N32: =SUM(N24:N31) -> 0 | O32: =SUM(O24:O31) -> 0 | P32: =SUM(P24:P31) -> 0 | Q32: =SUM(Q24:Q31) -> 0 | R32: =SUM(R24:R31) -> 0 | S32: =SUM(S24:S31) -> 0 | T32: =SUM(T24:T31) -> 0 | U32: =SUM(U24:U31) -> 0 | ... X32: =SUM(X24:X31) -> 0 | Z32: =SUM(Z24:Z31) -> 0 | AA32: =SUM(M32,Y32) -> 0
A33: Всего за год | C33: =SUM(C11,C32) -> 0 | D33: =SUM(D11,D32) -> 0 | E33: =SUM(E11,E32) -> 0 | F33: =SUM(F11,F32) -> 0 | G33: =SUM(G11,G32) -> 0 | H33: =SUM(H11,H32) -> 0 | I33: =SUM(I11,I32) -> 0 | J33: =SUM(J11,J32) -> 0 | ... X33: =SUM(X11,X32) -> 0 | Y33: =SUM(Y32) -> 0 | Z33: =SUM(Z11,Z32) -> 0 | AA33: =SUM(M33,Y33) -> 0
O35: Выполнение проверил
E36: подпись преподавателя | S36: подпись начальника кафедры

Sheet Р. 1.4. Нагрузка 
A1: - 16 -
A3: 1.4. УЧЕБНАЯ РАБОТА С СОТРУДНИКАМИ ОБУЧАЮЩИМИСЯ ПО ПРОГРАММАМ ПРОФЕССИОНАЛЬНОЙ ПОДГОТОВКИ
A4: 1.4.3. Учет выполнения учебной работы (1-е полугодие)
A5: Вид учебной работы Месяц | C5: Учебная работа по расписанию | N5: Другие виды учебной работы | Z5: Итого
C6: Чтение лекций | D6: Проведение семинаров | E6: Проведение практ., лаборатор. занятий | F6: Проведение игр и учений | G6: Прием зачетов | H6: Прием экзаменов | I6: Прием государственных экзаменов | J6: Прием защиты выпускных квалификационных работ | K6: Прием вступительних экзаменов, входного, выходного контроля | L6: Всего учебной работы по расписанию | M6: План на полугодие | N6: Проведение консультаций | O6: Руководство практикой | P6: Руководство курсовыми работами, включая их защиту | Q6: Руководство выпускными квалификационными работами | R6: Научное руководство адъюнктими, соискателями | S6: Проверка практикумов | T6: Проверка практ., лабор., контр. работ и контр. экспертиз | U6: Рецензирование рефератов | V6: Рецензирование выпускных квалификационных работ | W6: Прием внеаудиторного чтения | X6: Всего по другим видам учебной нагрузки | Y6: План на полугодие | Z6: Выполнено учебной нагрузки | AA6: План учебной нагрузки
A7: Сентябрь | L7: =SUM(C7:K7) -> 0 | X7: =SUM(N7:W7) -> 0 | Z7: =SUM(L7,X7) -> 0
A8: Октябрь | L8: =SUM(C8:K8) -> 0 | X8: =SUM(N8:W8) -> 0 | Z8: =SUM(L8,X8) -> 0
A9: Ноябрь | L9: =SUM(C9:K9) -> 0 | X9: =SUM(N9:W9) -> 0 | Z9: =SUM(L9,X9) -> 0
A10: Декабрь | L10: =SUM(C10:K10) -> 0 | X10: =SUM(N10:W10) -> 0 | Z10: =SUM(L10,X10) -> 0
A11: Всего за полугодие | C11: =SUM(C7:C10) -> 0 | D11: =SUM(D7:D10) -> 0 | E11: =SUM(E7:E10) -> 0 | F11: =SUM(F7:F10) -> 0 | G11: =SUM(G7:G10) -> 0 | H11: =SUM(H7:H10) -> 0 | I11: =SUM(I7:I10) -> 0 | J11: =SUM(J7:J10) -> 0 | ... L11: =SUM(L7:L10) -> 0 | N11: =SUM(N7:N10) -> 0 | O11: =SUM(O7:O10) -> 0 | P11: =SUM(P7:P10) -> 0 | Q11: =SUM(Q7:Q10) -> 0 | R11: =SUM(R7:R10) -> 0 | S11: =SUM(S7:S10) -> 0 | T11: =SUM(T7:T10) -> 0 | U11: =SUM(U7:U10) -> 0 | ... X11: =SUM(X7:X10) -> 0 | Z11: =SUM(Z7:Z10) -> 0 | AA11: =SUM(M11,Y11) -> 0
O15: Выполнение проверил
E16: подпись преподавателя | S16: подпись начальника кафедры
A19: - 17 -
A21: 1.4.3. Учет выполнения учебной работы (2-е полугодие)
A22: Вид учебной работы Месяц | C22: Учебная работа по расписанию | N22: Другие виды учебной работы | Z22: Итого
C23: Чтение лекций | D23: Проведение семинаров | E23: Проведение практ., лаборатор. занятий | F23: Проведение игр и учений | G23: Прием зачетов | H23: Прием экзаменов | I23: Прием государственных экзаменов | J23: Прием защиты выпускных квалификационных работ | K23: Прием вступительних экзаменов, входного, выходного контроля | L23: Всего учебной работы по расписанию | M23: План на полугодие | N23: Проведение консультаций | O23: Руководство практикой | P23: Руководство курсовыми работами, включая их защиту | Q23: Руководство выпускными квалификационными работами | R23: Научное руководство адъюнктими, соискателями | S23: Проверка практикумов | T23: Проверка практ., лабор., контр. работ и контр. экспертиз | U23: Рецензирование рефератов | V23: Рецензирование выпускных квалификационных работ | W23: Прием внеаудиторного чтения | X23: Всего по другим видам учебной нагрузки | Y23: План на полугодие | Z23: Выполнено учебной нагрузки | AA23: План учебной нагрузки
A24: Январь | L24: =SUM(C24:K24) -> 0 | X24: =SUM(N24:W24) -> 0 | Z24: =SUM(L24,X24) -> 0
A25: Февраль | L25: =SUM(C25:K25) -> 0 | X25: =SUM(N25:W25) -> 0 | Z25: =SUM(L25,X25) -> 0
A26: Март | L26: =SUM(C26:K26) -> 0 | X26: =SUM(N26:W26) -> 0 | Z26: =SUM(L26,X26) -> 0
A27: Апрель | L27: =SUM(C27:K27) -> 0 | X27: =SUM(N27:W27) -> 0 | Z27: =SUM(L27,X27) -> 0
A28: Май | L28: =SUM(C28:K28) -> 0 | X28: =SUM(N28:W28) -> 0 | Z28: =SUM(L28,X28) -> 0
A29: Июнь | L29: =SUM(C29:K29) -> 0 | X29: =SUM(N29:W29) -> 0 | Z29: =SUM(L29,X29) -> 0
A30: Июль | L30: =SUM(C30:K30) -> 0 | X30: =SUM(N30:W30) -> 0 | Z30: =SUM(L30,X30) -> 0
A31: Август | L31: =SUM(C31:K31) -> 0 | X31: =SUM(N31:W31) -> 0 | Z31: =SUM(L31,X31) -> 0
A32: Всего за полугодие | C32: =SUM(C24:C31) -> 0 | D32: =SUM(D24:D31) -> 0 | E32: =SUM(E24:E31) -> 0 | F32: =SUM(F24:F31) -> 0 | G32: =SUM(G24:G31) -> 0 | H32: =SUM(H24:H31) -> 0 | I32: =SUM(I24:I31) -> 0 | J32: =SUM(J24:J31) -> 0 | ... L32: =SUM(L24:L31) -> 0 | N32: =SUM(N24:N31) -> 0 | O32: =SUM(O24:O31) -> 0 | P32: =SUM(P24:P31) -> 0 | Q32: =SUM(Q24:Q31) -> 0 | R32: =SUM(R24:R31) -> 0 | S32: =SUM(S24:S31) -> 0 | T32: =SUM(T24:T31) -> 0 | U32: =SUM(U24:U31) -> 0 | ... X32: =SUM(X24:X31) -> 0 | Z32: =SUM(Z24:Z31) -> 0 | AA32: =SUM(M32,Y32) -> 0
A33: Всего за год | C33: =SUM(C11,C32) -> 0 | D33: =SUM(D11,D32) -> 0 | E33: =SUM(E11,E32) -> 0 | F33: =SUM(F11,F32) -> 0 | G33: =SUM(G11,G32) -> 0 | H33: =SUM(H11,H32) -> 0 | I33: =SUM(I11,I32) -> 0 | J33: =SUM(J11,J32) -> 0 | ... X33: =SUM(X11,X32) -> 0 | Y33: =SUM(Y32) -> 0 | Z33: =SUM(Z11,Z32) -> 0 | AA33: =SUM(M33,Y33) -> 0
O35: Выполнение проверил
E36: подпись преподавателя | S36: подпись начальника кафедры

Sheet Раздел 2.1
A1: - 18 -
A3: II. МЕТОДИЧЕСКАЯ РАБОТА
A4: 2.1. МЕТОДИЧЕСКОЕ ОБЕСПЕЧЕНИЕ ДЕЯТЕЛЬНОСТИ КАФЕДРЫ
A5: 1-е полугодие
A6: № п/п | B6: Индекс | C6: Наименование вида работ | F6: Количество часов по | I6: Срок выполнения | J6: Отметка о выполнении
F7: плану | H7: факту
A8: =IF(B8="","",MAX($A$5:A5)+1) | B8: =IF(C8="","",IF(ISERROR(VLOOKUP(C8,$C$153:$I$304,2,0)),"",VLOOKUP(C8,$C$153:$I$304,2,0))) | E8: =IF(C8="","",IF(ISERROR(VLOOKUP(C8,$C$153:$I$304,3,0)),"",IF(VLOOKUP(C8,$C$153:$I$304,3,0)="","",VLOOKUP(C8,$C$153:$I$304,3,0)))) | F8: =IF(G8=0,IF(C8=$C$183,$H$183+(D6-$I$183)*$F$183,IF(C8=$C$196,$H$196+(D8-$I$196)*$F$196,IF(C8="","",IF(ISERROR(VLOOKUP(C8,$C$153:$I$304,2,0)),"",IF(D8=0,IF(VLOOKUP(C8,$C$153:$I$304,4,0)=0,VLOOKUP(C8,$C$153:$I$304,6,0),VLOOKUP(C8,$C$153:$I$304,4,0)),IF(VLOOKUP(C8,$C$153:$I$304,6,0)=0,D8*VLOOKUP(C8,$C$153:$I$304,4,0),IF(D8*VLOOKUP(C8,$C$153:$I$304,4,0)>VLOOKUP(C8,$C$153:$I$304,6,0),VLOOKUP(C8,$C$153:$I$304,6,0),D8*VLOOKUP(C8,$C$153:$I$304,4,0)))))))),"")
A9: =IF(B9="","",MAX($A$5:A6)+1) | B9: =IF(C9="","",IF(ISERROR(VLOOKUP(C9,$C$153:$I$304,2,0)),"",VLOOKUP(C9,$C$153:$I$304,2,0))) | E9: =IF(C9="","",IF(ISERROR(VLOOKUP(C9,$C$153:$I$304,3,0)),"",IF(VLOOKUP(C9,$C$153:$I$304,3,0)="","",VLOOKUP(C9,$C$153:$I$304,3,0)))) | F9: =IF(G9=0,IF(C9=$C$183,$H$183+(D7-$I$183)*$F$183,IF(C9=$C$196,$H$196+(D9-$I$196)*$F$196,IF(C9="","",IF(ISERROR(VLOOKUP(C9,$C$153:$I$304,2,0)),"",IF(D9=0,IF(VLOOKUP(C9,$C$153:$I$304,4,0)=0,VLOOKUP(C9,$C$153:$I$304,6,0),VLOOKUP(C9,$C$153:$I$304,4,0)),IF(VLOOKUP(C9,$C$153:$I$304,6,0)=0,D9*VLOOKUP(C9,$C$153:$I$304,4,0),IF(D9*VLOOKUP(C9,$C$153:$I$304,4,0)>VLOOKUP(C9,$C$153:$I$304,6,0),VLOOKUP(C9,$C$153:$I$304,6,0),D9*VLOOKUP(C9,$C$153:$I$304,4,0)))))))),"")
A10: =IF(B10="","",MAX($A$5:A7)+1) | B10: =IF(C10="","",IF(ISERROR(VLOOKUP(C10,$C$153:$I$304,2,0)),"",VLOOKUP(C10,$C$153:$I$304,2,0))) | E10: =IF(C10="","",IF(ISERROR(VLOOKUP(C10,$C$153:$I$304,3,0)),"",IF(VLOOKUP(C10,$C$153:$I$304,3,0)="","",VLOOKUP(C10,$C$153:$I$304,3,0)))) | F10: =IF(G10=0,IF(C10=$C$183,$H$183+(D8-$I$183)*$F$183,IF(C10=$C$196,$H$196+(D10-$I$196)*$F$196,IF(C10="","",IF(ISERROR(VLOOKUP(C10,$C$153:$I$304,2,0)),"",IF(D10=0,IF(VLOOKUP(C10,$C$153:$I$304,4,0)=0,VLOOKUP(C10,$C$153:$I$304,6,0),VLOOKUP(C10,$C$153:$I$304,4,0)),IF(VLOOKUP(C10,$C$153:$I$304,6,0)=0,D10*VLOOKUP(C10,$C$153:$I$304,4,0),IF(D10*VLOOKUP(C10,$C$153:$I$304,4,0)>VLOOKUP(C10,$C$153:$I$304,6,0),VLOOKUP(C10,$C$153:$I$304,6,0),D10*VLOOKUP(C10,$C$153:$I$304,4,0)))))))),"")
A11: =IF(B11="","",MAX($A$5:A8)+1) | B11: =IF(C11="","",IF(ISERROR(VLOOKUP(C11,$C$153:$I$304,2,0)),"",VLOOKUP(C11,$C$153:$I$304,2,0))) | E11: =IF(C11="","",IF(ISERROR(VLOOKUP(C11,$C$153:$I$304,3,0)),"",IF(VLOOKUP(C11,$C$153:$I$304,3,0)="","",VLOOKUP(C11,$C$153:$I$304,3,0)))) | F11: =IF(G11=0,IF(C11=$C$183,$H$183+(D9-$I$183)*$F$183,IF(C11=$C$196,$H$196+(D11-$I$196)*$F$196,IF(C11="","",IF(ISERROR(VLOOKUP(C11,$C$153:$I$304,2,0)),"",IF(D11=0,IF(VLOOKUP(C11,$C$153:$I$304,4,0)=0,VLOOKUP(C11,$C$153:$I$304,6,0),VLOOKUP(C11,$C$153:$I$304,4,0)),IF(VLOOKUP(C11,$C$153:$I$304,6,0)=0,D11*VLOOKUP(C11,$C$153:$I$304,4,0),IF(D11*VLOOKUP(C11,$C$153:$I$304,4,0)>VLOOKUP(C11,$C$153:$I$304,6,0),VLOOKUP(C11,$C$153:$I$304,6,0),D11*VLOOKUP(C11,$C$153:$I$304,4,0)))))))),"")
A12: =IF(B12="","",MAX($A$5:A9)+1) | B12: =IF(C12="","",IF(ISERROR(VLOOKUP(C12,$C$153:$I$304,2,0)),"",VLOOKUP(C12,$C$153:$I$304,2,0))) | E12: =IF(C12="","",IF(ISERROR(VLOOKUP(C12,$C$153:$I$304,3,0)),"",IF(VLOOKUP(C12,$C$153:$I$304,3,0)="","",VLOOKUP(C12,$C$153:$I$304,3,0)))) | F12: =IF(G12=0,IF(C12=$C$183,$H$183+(D10-$I$183)*$F$183,IF(C12=$C$196,$H$196+(D12-$I$196)*$F$196,IF(C12="","",IF(ISERROR(VLOOKUP(C12,$C$153:$I$304,2,0)),"",IF(D12=0,IF(VLOOKUP(C12,$C$153:$I$304,4,0)=0,VLOOKUP(C12,$C$153:$I$304,6,0),VLOOKUP(C12,$C$153:$I$304,4,0)),IF(VLOOKUP(C12,$C$153:$I$304,6,0)=0,D12*VLOOKUP(C12,$C$153:$I$304,4,0),IF(D12*VLOOKUP(C12,$C$153:$I$304,4,0)>VLOOKUP(C12,$C$153:$I$304,6,0),VLOOKUP(C12,$C$153:$I$304,6,0),D12*VLOOKUP(C12,$C$153:$I$304,4,0)))))))),"")
A13: =IF(B13="","",MAX($A$5:A10)+1) | B13: =IF(C13="","",IF(ISERROR(VLOOKUP(C13,$C$153:$I$304,2,0)),"",VLOOKUP(C13,$C$153:$I$304,2,0))) | E13: =IF(C13="","",IF(ISERROR(VLOOKUP(C13,$C$153:$I$304,3,0)),"",IF(VLOOKUP(C13,$C$153:$I$304,3,0)="","",VLOOKUP(C13,$C$153:$I$304,3,0)))) | F13: =IF(G13=0,IF(C13=$C$183,$H$183+(D11-$I$183)*$F$183,IF(C13=$C$196,$H$196+(D13-$I$196)*$F$196,IF(C13="","",IF(ISERROR(VLOOKUP(C13,$C$153:$I$304,2,0)),"",IF(D13=0,IF(VLOOKUP(C13,$C$153:$I$304,4,0)=0,VLOOKUP(C13,$C$153:$I$304,6,0),VLOOKUP(C13,$C$153:$I$304,4,0)),IF(VLOOKUP(C13,$C$153:$I$304,6,0)=0,D13*VLOOKUP(C13,$C$153:$I$304,4,0),IF(D13*VLOOKUP(C13,$C$153:$I$304,4,0)>VLOOKUP(C13,$C$153:$I$304,6,0),VLOOKUP(C13,$C$153:$I$304,6,0),D13*VLOOKUP(C13,$C$153:$I$304,4,0)))))))),"")
A14: =IF(B14="","",MAX($A$5:A11)+1) | B14: =IF(C14="","",IF(ISERROR(VLOOKUP(C14,$C$153:$I$304,2,0)),"",VLOOKUP(C14,$C$153:$I$304,2,0))) | E14: =IF(C14="","",IF(ISERROR(VLOOKUP(C14,$C$153:$I$304,3,0)),"",IF(VLOOKUP(C14,$C$153:$I$304,3,0)="","",VLOOKUP(C14,$C$153:$I$304,3,0)))) | F14: =IF(G14=0,IF(C14=$C$183,$H$183+(D12-$I$183)*$F$183,IF(C14=$C$196,$H$196+(D14-$I$196)*$F$196,IF(C14="","",IF(ISERROR(VLOOKUP(C14,$C$153:$I$304,2,0)),"",IF(D14=0,IF(VLOOKUP(C14,$C$153:$I$304,4,0)=0,VLOOKUP(C14,$C$153:$I$304,6,0),VLOOKUP(C14,$C$153:$I$304,4,0)),IF(VLOOKUP(C14,$C$153:$I$304,6,0)=0,D14*VLOOKUP(C14,$C$153:$I$304,4,0),IF(D14*VLOOKUP(C14,$C$153:$I$304,4,0)>VLOOKUP(C14,$C$153:$I$304,6,0),VLOOKUP(C14,$C$153:$I$304,6,0),D14*VLOOKUP(C14,$C$153:$I$304,4,0)))))))),"")
A15: =IF(B15="","",MAX($A$5:A12)+1) | B15: =IF(C15="","",IF(ISERROR(VLOOKUP(C15,$C$153:$I$304,2,0)),"",VLOOKUP(C15,$C$153:$I$304,2,0))) | E15: =IF(C15="","",IF(ISERROR(VLOOKUP(C15,$C$153:$I$304,3,0)),"",IF(VLOOKUP(C15,$C$153:$I$304,3,0)="","",VLOOKUP(C15,$C$153:$I$304,3,0)))) | F15: =IF(G15=0,IF(C15=$C$183,$H$183+(D13-$I$183)*$F$183,IF(C15=$C$196,$H$196+(D15-$I$196)*$F$196,IF(C15="","",IF(ISERROR(VLOOKUP(C15,$C$153:$I$304,2,0)),"",IF(D15=0,IF(VLOOKUP(C15,$C$153:$I$304,4,0)=0,VLOOKUP(C15,$C$153:$I$304,6,0),VLOOKUP(C15,$C$153:$I$304,4,0)),IF(VLOOKUP(C15,$C$153:$I$304,6,0)=0,D15*VLOOKUP(C15,$C$153:$I$304,4,0),IF(D15*VLOOKUP(C15,$C$153:$I$304,4,0)>VLOOKUP(C15,$C$153:$I$304,6,0),VLOOKUP(C15,$C$153:$I$304,6,0),D15*VLOOKUP(C15,$C$153:$I$304,4,0)))))))),"")
A16: =IF(B16="","",MAX($A$5:A13)+1) | B16: =IF(C16="","",IF(ISERROR(VLOOKUP(C16,$C$153:$I$304,2,0)),"",VLOOKUP(C16,$C$153:$I$304,2,0))) | E16: =IF(C16="","",IF(ISERROR(VLOOKUP(C16,$C$153:$I$304,3,0)),"",IF(VLOOKUP(C16,$C$153:$I$304,3,0)="","",VLOOKUP(C16,$C$153:$I$304,3,0)))) | F16: =IF(G16=0,IF(C16=$C$183,$H$183+(D14-$I$183)*$F$183,IF(C16=$C$196,$H$196+(D16-$I$196)*$F$196,IF(C16="","",IF(ISERROR(VLOOKUP(C16,$C$153:$I$304,2,0)),"",IF(D16=0,IF(VLOOKUP(C16,$C$153:$I$304,4,0)=0,VLOOKUP(C16,$C$153:$I$304,6,0),VLOOKUP(C16,$C$153:$I$304,4,0)),IF(VLOOKUP(C16,$C$153:$I$304,6,0)=0,D16*VLOOKUP(C16,$C$153:$I$304,4,0),IF(D16*VLOOKUP(C16,$C$153:$I$304,4,0)>VLOOKUP(C16,$C$153:$I$304,6,0),VLOOKUP(C16,$C$153:$I$304,6,0),D16*VLOOKUP(C16,$C$153:$I$304,4,0)))))))),"")
A17: =IF(B17="","",MAX($A$5:A14)+1) | B17: =IF(C17="","",IF(ISERROR(VLOOKUP(C17,$C$153:$I$304,2,0)),"",VLOOKUP(C17,$C$153:$I$304,2,0))) | E17: =IF(C17="","",IF(ISERROR(VLOOKUP(C17,$C$153:$I$304,3,0)),"",IF(VLOOKUP(C17,$C$153:$I$304,3,0)="","",VLOOKUP(C17,$C$153:$I$304,3,0)))) | F17: =IF(G17=0,IF(C17=$C$183,$H$183+(D15-$I$183)*$F$183,IF(C17=$C$196,$H$196+(D17-$I$196)*$F$196,IF(C17="","",IF(ISERROR(VLOOKUP(C17,$C$153:$I$304,2,0)),"",IF(D17=0,IF(VLOOKUP(C17,$C$153:$I$304,4,0)=0,VLOOKUP(C17,$C$153:$I$304,6,0),VLOOKUP(C17,$C$153:$I$304,4,0)),IF(VLOOKUP(C17,$C$153:$I$304,6,0)=0,D17*VLOOKUP(C17,$C$153:$I$304,4,0),IF(D17*VLOOKUP(C17,$C$153:$I$304,4,0)>VLOOKUP(C17,$C$153:$I$304,6,0),VLOOKUP(C17,$C$153:$I$304,6,0),D17*VLOOKUP(C17,$C$153:$I$304,4,0)))))))),"")
A18: =IF(B18="","",MAX($A$5:A15)+1) | B18: =IF(C18="","",IF(ISERROR(VLOOKUP(C18,$C$153:$I$304,2,0)),"",VLOOKUP(C18,$C$153:$I$304,2,0))) | E18: =IF(C18="","",IF(ISERROR(VLOOKUP(C18,$C$153:$I$304,3,0)),"",IF(VLOOKUP(C18,$C$153:$I$304,3,0)="","",VLOOKUP(C18,$C$153:$I$304,3,0)))) | F18: =IF(G18=0,IF(C18=$C$183,$H$183+(D16-$I$183)*$F$183,IF(C18=$C$196,$H$196+(D18-$I$196)*$F$196,IF(C18="","",IF(ISERROR(VLOOKUP(C18,$C$153:$I$304,2,0)),"",IF(D18=0,IF(VLOOKUP(C18,$C$153:$I$304,4,0)=0,VLOOKUP(C18,$C$153:$I$304,6,0),VLOOKUP(C18,$C$153:$I$304,4,0)),IF(VLOOKUP(C18,$C$153:$I$304,6,0)=0,D18*VLOOKUP(C18,$C$153:$I$304,4,0),IF(D18*VLOOKUP(C18,$C$153:$I$304,4,0)>VLOOKUP(C18,$C$153:$I$304,6,0),VLOOKUP(C18,$C$153:$I$304,6,0),D18*VLOOKUP(C18,$C$153:$I$304,4,0)))))))),"")
A19: =IF(B19="","",MAX($A$5:A16)+1) | B19: =IF(C19="","",IF(ISERROR(VLOOKUP(C19,$C$153:$I$304,2,0)),"",VLOOKUP(C19,$C$153:$I$304,2,0))) | E19: =IF(C19="","",IF(ISERROR(VLOOKUP(C19,$C$153:$I$304,3,0)),"",IF(VLOOKUP(C19,$C$153:$I$304,3,0)="","",VLOOKUP(C19,$C$153:$I$304,3,0)))) | F19: =IF(G19=0,IF(C19=$C$183,$H$183+(D17-$I$183)*$F$183,IF(C19=$C$196,$H$196+(D19-$I$196)*$F$196,IF(C19="","",IF(ISERROR(VLOOKUP(C19,$C$153:$I$304,2,0)),"",IF(D19=0,IF(VLOOKUP(C19,$C$153:$I$304,4,0)=0,VLOOKUP(C19,$C$153:$I$304,6,0),VLOOKUP(C19,$C$153:$I$304,4,0)),IF(VLOOKUP(C19,$C$153:$I$304,6,0)=0,D19*VLOOKUP(C19,$C$153:$I$304,4,0),IF(D19*VLOOKUP(C19,$C$153:$I$304,4,0)>VLOOKUP(C19,$C$153:$I$304,6,0),VLOOKUP(C19,$C$153:$I$304,6,0),D19*VLOOKUP(C19,$C$153:$I$304,4,0)))))))),"")
... A33: =IF(B33="","",MAX($A$5:A30)+1) | B33: =IF(C33="","",IF(ISERROR(VLOOKUP(C33,$C$153:$I$304,2,0)),"",VLOOKUP(C33,$C$153:$I$304,2,0))) | E33: =IF(C33="","",IF(ISERROR(VLOOKUP(C33,$C$153:$I$304,3,0)),"",IF(VLOOKUP(C33,$C$153:$I$304,3,0)="","",VLOOKUP(C33,$C$153:$I$304,3,0)))) | F33: =IF(G33=0,IF(C33=$C$183,$H$183+(D31-$I$183)*$F$183,IF(C33=$C$196,$H$196+(D33-$I$196)*$F$196,IF(C33="","",IF(ISERROR(VLOOKUP(C33,$C$153:$I$304,2,0)),"",IF(D33=0,IF(VLOOKUP(C33,$C$153:$I$304,4,0)=0,VLOOKUP(C33,$C$153:$I$304,6,0),VLOOKUP(C33,$C$153:$I$304,4,0)),IF(VLOOKUP(C33,$C$153:$I$304,6,0)=0,D33*VLOOKUP(C33,$C$153:$I$304,4,0),IF(D33*VLOOKUP(C33,$C$153:$I$304,4,0)>VLOOKUP(C33,$C$153:$I$304,6,0),VLOOKUP(C33,$C$153:$I$304,6,0),D33*VLOOKUP(C33,$C$153:$I$304,4,0)))))))),"")
A35: - 19 -
A37: № п/п | B37: Индекс | C37: Наименование вида работ | F37: Количество часов по | I37: Срок выполнения | J37: Отметка о выполнении
F38: плану | H38: факту
A39: =IF(B39="","",MAX($A$5:A38)+1) | B39: =IF(C39="","",IF(ISERROR(VLOOKUP(C39,$C$153:$I$304,2,0)),"",VLOOKUP(C39,$C$153:$I$304,2,0))) | E39: =IF(C39="","",IF(ISERROR(VLOOKUP(C39,$C$153:$I$304,3,0)),"",IF(VLOOKUP(C39,$C$153:$I$304,3,0)="","",VLOOKUP(C39,$C$153:$I$304,3,0)))) | F39: =IF(G39=0,IF(C39=$C$183,$H$183+(D39-$I$183)*$F$183,IF(C39=$C$196,$H$196+(D39-$I$196)*$F$196,IF(C39="","",IF(ISERROR(VLOOKUP(C39,$C$153:$I$304,2,0)),"",IF(D39=0,IF(VLOOKUP(C39,$C$153:$I$304,4,0)=0,VLOOKUP(C39,$C$153:$I$304,6,0),VLOOKUP(C39,$C$153:$I$304,4,0)),IF(VLOOKUP(C39,$C$153:$I$304,6,0)=0,D39*VLOOKUP(C39,$C$153:$I$304,4,0),IF(D39*VLOOKUP(C39,$C$153:$I$304,4,0)>VLOOKUP(C39,$C$153:$I$304,6,0),VLOOKUP(C39,$C$153:$I$304,6,0),D39*VLOOKUP(C39,$C$153:$I$304,4,0)))))))),"")
A40: =IF(B40="","",MAX($A$5:A39)+1) | B40: =IF(C40="","",IF(ISERROR(VLOOKUP(C40,$C$153:$I$304,2,0)),"",VLOOKUP(C40,$C$153:$I$304,2,0))) | E40: =IF(C40="","",IF(ISERROR(VLOOKUP(C40,$C$153:$I$304,3,0)),"",IF(VLOOKUP(C40,$C$153:$I$304,3,0)="","",VLOOKUP(C40,$C$153:$I$304,3,0)))) | F40: =IF(G40=0,IF(C40=$C$183,$H$183+(D40-$I$183)*$F$183,IF(C40=$C$196,$H$196+(D40-$I$196)*$F$196,IF(C40="","",IF(ISERROR(VLOOKUP(C40,$C$153:$I$304,2,0)),"",IF(D40=0,IF(VLOOKUP(C40,$C$153:$I$304,4,0)=0,VLOOKUP(C40,$C$153:$I$304,6,0),VLOOKUP(C40,$C$153:$I$304,4,0)),IF(VLOOKUP(C40,$C$153:$I$304,6,0)=0,D40*VLOOKUP(C40,$C$153:$I$304,4,0),IF(D40*VLOOKUP(C40,$C$153:$I$304,4,0)>VLOOKUP(C40,$C$153:$I$304,6,0),VLOOKUP(C40,$C$153:$I$304,6,0),D40*VLOOKUP(C40,$C$153:$I$304,4,0)))))))),"")
A41: =IF(B41="","",MAX($A$5:A40)+1) | B41: =IF(C41="","",IF(ISERROR(VLOOKUP(C41,$C$153:$I$304,2,0)),"",VLOOKUP(C41,$C$153:$I$304,2,0))) | E41: =IF(C41="","",IF(ISERROR(VLOOKUP(C41,$C$153:$I$304,3,0)),"",IF(VLOOKUP(C41,$C$153:$I$304,3,0)="","",VLOOKUP(C41,$C$153:$I$304,3,0)))) | F41: =IF(G41=0,IF(C41=$C$183,$H$183+(D41-$I$183)*$F$183,IF(C41=$C$196,$H$196+(D41-$I$196)*$F$196,IF(C41="","",IF(ISERROR(VLOOKUP(C41,$C$153:$I$304,2,0)),"",IF(D41=0,IF(VLOOKUP(C41,$C$153:$I$304,4,0)=0,VLOOKUP(C41,$C$153:$I$304,6,0),VLOOKUP(C41,$C$153:$I$304,4,0)),IF(VLOOKUP(C41,$C$153:$I$304,6,0)=0,D41*VLOOKUP(C41,$C$153:$I$304,4,0),IF(D41*VLOOKUP(C41,$C$153:$I$304,4,0)>VLOOKUP(C41,$C$153:$I$304,6,0),VLOOKUP(C41,$C$153:$I$304,6,0),D41*VLOOKUP(C41,$C$153:$I$304,4,0)))))))),"")
A42: =IF(B42="","",MAX($A$5:A41)+1) | B42: =IF(C42="","",IF(ISERROR(VLOOKUP(C42,$C$153:$I$304,2,0)),"",VLOOKUP(C42,$C$153:$I$304,2,0))) | E42: =IF(C42="","",IF(ISERROR(VLOOKUP(C42,$C$153:$I$304,3,0)),"",IF(VLOOKUP(C42,$C$153:$I$304,3,0)="","",VLOOKUP(C42,$C$153:$I$304,3,0)))) | F42: =IF(G42=0,IF(C42=$C$183,$H$183+(D42-$I$183)*$F$183,IF(C42=$C$196,$H$196+(D42-$I$196)*$F$196,IF(C42="","",IF(ISERROR(VLOOKUP(C42,$C$153:$I$304,2,0)),"",IF(D42=0,IF(VLOOKUP(C42,$C$153:$I$304,4,0)=0,VLOOKUP(C42,$C$153:$I$304,6,0),VLOOKUP(C42,$C$153:$I$304,4,0)),IF(VLOOKUP(C42,$C$153:$I$304,6,0)=0,D42*VLOOKUP(C42,$C$153:$I$304,4,0),IF(D42*VLOOKUP(C42,$C$153:$I$304,4,0)>VLOOKUP(C42,$C$153:$I$304,6,0),VLOOKUP(C42,$C$153:$I$304,6,0),D42*VLOOKUP(C42,$C$153:$I$304,4,0)))))))),"")
A43: =IF(B43="","",MAX($A$5:A42)+1) | B43: =IF(C43="","",IF(ISERROR(VLOOKUP(C43,$C$153:$I$304,2,0)),"",VLOOKUP(C43,$C$153:$I$304,2,0))) | E43: =IF(C43="","",IF(ISERROR(VLOOKUP(C43,$C$153:$I$304,3,0)),"",IF(VLOOKUP(C43,$C$153:$I$304,3,0)="","",VLOOKUP(C43,$C$153:$I$304,3,0)))) | F43: =IF(G43=0,IF(C43=$C$183,$H$183+(D43-$I$183)*$F$183,IF(C43=$C$196,$H$196+(D43-$I$196)*$F$196,IF(C43="","",IF(ISERROR(VLOOKUP(C43,$C$153:$I$304,2,0)),"",IF(D43=0,IF(VLOOKUP(C43,$C$153:$I$304,4,0)=0,VLOOKUP(C43,$C$153:$I$304,6,0),VLOOKUP(C43,$C$153:$I$304,4,0)),IF(VLOOKUP(C43,$C$153:$I$304,6,0)=0,D43*VLOOKUP(C43,$C$153:$I$304,4,0),IF(D43*VLOOKUP(C43,$C$153:$I$304,4,0)>VLOOKUP(C43,$C$153:$I$304,6,0),VLOOKUP(C43,$C$153:$I$304,6,0),D43*VLOOKUP(C43,$C$153:$I$304,4,0)))))))),"")
A44: =IF(B44="","",MAX($A$5:A43)+1) | B44: =IF(C44="","",IF(ISERROR(VLOOKUP(C44,$C$153:$I$304,2,0)),"",VLOOKUP(C44,$C$153:$I$304,2,0))) | E44: =IF(C44="","",IF(ISERROR(VLOOKUP(C44,$C$153:$I$304,3,0)),"",IF(VLOOKUP(C44,$C$153:$I$304,3,0)="","",VLOOKUP(C44,$C$153:$I$304,3,0)))) | F44: =IF(G44=0,IF(C44=$C$183,$H$183+(D44-$I$183)*$F$183,IF(C44=$C$196,$H$196+(D44-$I$196)*$F$196,IF(C44="","",IF(ISERROR(VLOOKUP(C44,$C$153:$I$304,2,0)),"",IF(D44=0,IF(VLOOKUP(C44,$C$153:$I$304,4,0)=0,VLOOKUP(C44,$C$153:$I$304,6,0),VLOOKUP(C44,$C$153:$I$304,4,0)),IF(VLOOKUP(C44,$C$153:$I$304,6,0)=0,D44*VLOOKUP(C44,$C$153:$I$304,4,0),IF(D44*VLOOKUP(C44,$C$153:$I$304,4,0)>VLOOKUP(C44,$C$153:$I$304,6,0),VLOOKUP(C44,$C$153:$I$304,6,0),D44*VLOOKUP(C44,$C$153:$I$304,4,0)))))))),"")
A45: =IF(B45="","",MAX($A$5:A44)+1) | B45: =IF(C45="","",IF(ISERROR(VLOOKUP(C45,$C$153:$I$304,2,0)),"",VLOOKUP(C45,$C$153:$I$304,2,0))) | E45: =IF(C45="","",IF(ISERROR(VLOOKUP(C45,$C$153:$I$304,3,0)),"",IF(VLOOKUP(C45,$C$153:$I$304,3,0)="","",VLOOKUP(C45,$C$153:$I$304,3,0)))) | F45: =IF(G45=0,IF(C45=$C$183,$H$183+(D45-$I$183)*$F$183,IF(C45=$C$196,$H$196+(D45-$I$196)*$F$196,IF(C45="","",IF(ISERROR(VLOOKUP(C45,$C$153:$I$304,2,0)),"",IF(D45=0,IF(VLOOKUP(C45,$C$153:$I$304,4,0)=0,VLOOKUP(C45,$C$153:$I$304,6,0),VLOOKUP(C45,$C$153:$I$304,4,0)),IF(VLOOKUP(C45,$C$153:$I$304,6,0)=0,D45*VLOOKUP(C45,$C$153:$I$304,4,0),IF(D45*VLOOKUP(C45,$C$153:$I$304,4,0)>VLOOKUP(C45,$C$153:$I$304,6,0),VLOOKUP(C45,$C$153:$I$304,6,0),D45*VLOOKUP(C45,$C$153:$I$304,4,0)))))))),"")
A46: =IF(B46="","",MAX($A$5:A45)+1) | B46: =IF(C46="","",IF(ISERROR(VLOOKUP(C46,$C$153:$I$304,2,0)),"",VLOOKUP(C46,$C$153:$I$304,2,0))) | E46: =IF(C46="","",IF(ISERROR(VLOOKUP(C46,$C$153:$I$304,3,0)),"",IF(VLOOKUP(C46,$C$153:$I$304,3,0)="","",VLOOKUP(C46,$C$153:$I$304,3,0)))) | F46: =IF(G46=0,IF(C46=$C$183,$H$183+(D46-$I$183)*$F$183,IF(C46=$C$196,$H$196+(D46-$I$196)*$F$196,IF(C46="","",IF(ISERROR(VLOOKUP(C46,$C$153:$I$304,2,0)),"",IF(D46=0,IF(VLOOKUP(C46,$C$153:$I$304,4,0)=0,VLOOKUP(C46,$C$153:$I$304,6,0),VLOOKUP(C46,$C$153:$I$304,4,0)),IF(VLOOKUP(C46,$C$153:$I$304,6,0)=0,D46*VLOOKUP(C46,$C$153:$I$304,4,0),IF(D46*VLOOKUP(C46,$C$153:$I$304,4,0)>VLOOKUP(C46,$C$153:$I$304,6,0),VLOOKUP(C46,$C$153:$I$304,6,0),D46*VLOOKUP(C46,$C$153:$I$304,4,0)))))))),"")
A47: =IF(B47="","",MAX($A$5:A46)+1) | B47: =IF(C47="","",IF(ISERROR(VLOOKUP(C47,$C$153:$I$304,2,0)),"",VLOOKUP(C47,$C$153:$I$304,2,0))) | E47: =IF(C47="","",IF(ISERROR(VLOOKUP(C47,$C$153:$I$304,3,0)),"",IF(VLOOKUP(C47,$C$153:$I$304,3,0)="","",VLOOKUP(C47,$C$153:$I$304,3,0)))) | F47: =IF(G47=0,IF(C47=$C$183,$H$183+(D47-$I$183)*$F$183,IF(C47=$C$196,$H$196+(D47-$I$196)*$F$196,IF(C47="","",IF(ISERROR(VLOOKUP(C47,$C$153:$I$304,2,0)),"",IF(D47=0,IF(VLOOKUP(C47,$C$153:$I$304,4,0)=0,VLOOKUP(C47,$C$153:$I$304,6,0),VLOOKUP(C47,$C$153:$I$304,4,0)),IF(VLOOKUP(C47,$C$153:$I$304,6,0)=0,D47*VLOOKUP(C47,$C$153:$I$304,4,0),IF(D47*VLOOKUP(C47,$C$153:$I$304,4,0)>VLOOKUP(C47,$C$153:$I$304,6,0),VLOOKUP(C47,$C$153:$I$304,6,0),D47*VLOOKUP(C47,$C$153:$I$304,4,0)))))))),"")
A48: =IF(B48="","",MAX($A$5:A47)+1) | B48: =IF(C48="","",IF(ISERROR(VLOOKUP(C48,$C$153:$I$304,2,0)),"",VLOOKUP(C48,$C$153:$I$304,2,0))) | E48: =IF(C48="","",IF(ISERROR(VLOOKUP(C48,$C$153:$I$304,3,0)),"",IF(VLOOKUP(C48,$C$153:$I$304,3,0)="","",VLOOKUP(C48,$C$153:$I$304,3,0)))) | F48: =IF(G48=0,IF(C48=$C$183,$H$183+(D48-$I$183)*$F$183,IF(C48=$C$196,$H$196+(D48-$I$196)*$F$196,IF(C48="","",IF(ISERROR(VLOOKUP(C48,$C$153:$I$304,2,0)),"",IF(D48=0,IF(VLOOKUP(C48,$C$153:$I$304,4,0)=0,VLOOKUP(C48,$C$153:$I$304,6,0),VLOOKUP(C48,$C$153:$I$304,4,0)),IF(VLOOKUP(C48,$C$153:$I$304,6,0)=0,D48*VLOOKUP(C48,$C$153:$I$304,4,0),IF(D48*VLOOKUP(C48,$C$153:$I$304,4,0)>VLOOKUP(C48,$C$153:$I$304,6,0),VLOOKUP(C48,$C$153:$I$304,6,0),D48*VLOOKUP(C48,$C$153:$I$304,4,0)))))))),"")
A49: =IF(B49="","",MAX($A$5:A48)+1) | B49: =IF(C49="","",IF(ISERROR(VLOOKUP(C49,$C$153:$I$304,2,0)),"",VLOOKUP(C49,$C$153:$I$304,2,0))) | E49: =IF(C49="","",IF(ISERROR(VLOOKUP(C49,$C$153:$I$304,3,0)),"",IF(VLOOKUP(C49,$C$153:$I$304,3,0)="","",VLOOKUP(C49,$C$153:$I$304,3,0)))) | F49: =IF(G49=0,IF(C49=$C$183,$H$183+(D49-$I$183)*$F$183,IF(C49=$C$196,$H$196+(D49-$I$196)*$F$196,IF(C49="","",IF(ISERROR(VLOOKUP(C49,$C$153:$I$304,2,0)),"",IF(D49=0,IF(VLOOKUP(C49,$C$153:$I$304,4,0)=0,VLOOKUP(C49,$C$153:$I$304,6,0),VLOOKUP(C49,$C$153:$I$304,4,0)),IF(VLOOKUP(C49,$C$153:$I$304,6,0)=0,D49*VLOOKUP(C49,$C$153:$I$304,4,0),IF(D49*VLOOKUP(C49,$C$153:$I$304,4,0)>VLOOKUP(C49,$C$153:$I$304,6,0),VLOOKUP(C49,$C$153:$I$304,6,0),D49*VLOOKUP(C49,$C$153:$I$304,4,0)))))))),"")
A50: =IF(B50="","",MAX($A$5:A49)+1) | B50: =IF(C50="","",IF(ISERROR(VLOOKUP(C50,$C$153:$I$304,2,0)),"",VLOOKUP(C50,$C$153:$I$304,2,0))) | E50: =IF(C50="","",IF(ISERROR(VLOOKUP(C50,$C$153:$I$304,3,0)),"",IF(VLOOKUP(C50,$C$153:$I$304,3,0)="","",VLOOKUP(C50,$C$153:$I$304,3,0)))) | F50: =IF(G50=0,IF(C50=$C$183,$H$183+(D50-$I$183)*$F$183,IF(C50=$C$196,$H$196+(D50-$I$196)*$F$196,IF(C50="","",IF(ISERROR(VLOOKUP(C50,$C$153:$I$304,2,0)),"",IF(D50=0,IF(VLOOKUP(C50,$C$153:$I$304,4,0)=0,VLOOKUP(C50,$C$153:$I$304,6,0),VLOOKUP(C50,$C$153:$I$304,4,0)),IF(VLOOKUP(C50,$C$153:$I$304,6,0)=0,D50*VLOOKUP(C50,$C$153:$I$304,4,0),IF(D50*VLOOKUP(C50,$C$153:$I$304,4,0)>VLOOKUP(C50,$C$153:$I$304,6,0),VLOOKUP(C50,$C$153:$I$304,6,0),D50*VLOOKUP(C50,$C$153:$I$304,4,0)))))))),"")
... A63: =IF(B63="","",MAX($A$5:A62)+1) | B63: =IF(C63="","",IF(ISERROR(VLOOKUP(C63,$C$153:$I$304,2,0)),"",VLOOKUP(C63,$C$153:$I$304,2,0))) | E63: =IF(C63="","",IF(ISERROR(VLOOKUP(C63,$C$153:$I$304,3,0)),"",IF(VLOOKUP(C63,$C$153:$I$304,3,0)="","",VLOOKUP(C63,$C$153:$I$304,3,0)))) | F63: =IF(G63=0,IF(C63=$C$183,$H$183+(D63-$I$183)*$F$183,IF(C63=$C$196,$H$196+(D63-$I$196)*$F$196,IF(C63="","",IF(ISERROR(VLOOKUP(C63,$C$153:$I$304,2,0)),"",IF(D63=0,IF(VLOOKUP(C63,$C$153:$I$304,4,0)=0,VLOOKUP(C63,$C$153:$I$304,6,0),VLOOKUP(C63,$C$153:$I$304,4,0)),IF(VLOOKUP(C63,$C$153:$I$304,6,0)=0,D63*VLOOKUP(C63,$C$153:$I$304,4,0),IF(D63*VLOOKUP(C63,$C$153:$I$304,4,0)>VLOOKUP(C63,$C$153:$I$304,6,0),VLOOKUP(C63,$C$153:$I$304,6,0),D63*VLOOKUP(C63,$C$153:$I$304,4,0)))))))),"")
A64: Всего за полугодие | F64: =SUM(F8:G33,F39:G63) -> 0 | H64: =SUM(H8:H33,H39:H63) -> 0
C67: __________________ | E67: Выполнение проверил | I67: ___________________________
C68: подпись преподавателя | I68: подпись начальника кафедры
A70: - 20 -
A72: 2-е полугодие
...

Sheet Раздел 2.2
A1: - 22 -
A3: 2.2. РАЗРАБОТКА УЧЕБНО-МЕТОДИЧЕСКИХ МАТЕРИАЛОВ ДЛЯ ОБУЧАЮЩИХСЯ ПО ЗАОЧНОЙ ФОРМЕ ОБУЧЕНИЯ
A4: 1-е полугодие
A5: № п/п | B5: Индекс | C5: Наименование вида работ | F5: Количество часов по | I5: Срок выполнения | J5: Отметка о выполнении
F6: плану | H6: факту
A7: =IF(B7="","",MAX($A$6:A6)+1) | B7: =IF(C7="","",IF(ISERROR(VLOOKUP(C7,$C$150:$I$301,2,0)),"",VLOOKUP(C7,$C$150:$I$301,2,0))) | E7: =IF(C7="","",IF(ISERROR(VLOOKUP(C7,$C$150:$I$301,3,0)),"",IF(VLOOKUP(C7,$C$150:$I$301,3,0)="","",VLOOKUP(C7,$C$150:$I$301,3,0)))) | F7: =IF(G7=0,IF(C7=$C$180,$H$180+(D7-$I$180)*$F$180,IF(C7=$C$193,$H$193+(D7-$I$193)*$F$193,IF(C7="","",IF(ISERROR(VLOOKUP(C7,$C$150:$I$301,2,0)),"",IF(D7=0,IF(VLOOKUP(C7,$C$150:$I$301,4,0)=0,VLOOKUP(C7,$C$150:$I$301,6,0),VLOOKUP(C7,$C$150:$I$301,4,0)),IF(VLOOKUP(C7,$C$150:$I$301,6,0)=0,D7*VLOOKUP(C7,$C$150:$I$301,4,0),IF(D7*VLOOKUP(C7,$C$150:$I$301,4,0)>VLOOKUP(C7,$C$150:$I$301,6,0),VLOOKUP(C7,$C$150:$I$301,6,0),D7*VLOOKUP(C7,$C$150:$I$301,4,0)))))))),"")
A8: =IF(B8="","",MAX($A$6:A7)+1) | B8: =IF(C8="","",IF(ISERROR(VLOOKUP(C8,$C$150:$I$301,2,0)),"",VLOOKUP(C8,$C$150:$I$301,2,0))) | E8: =IF(C8="","",IF(ISERROR(VLOOKUP(C8,$C$150:$I$301,3,0)),"",IF(VLOOKUP(C8,$C$150:$I$301,3,0)="","",VLOOKUP(C8,$C$150:$I$301,3,0)))) | F8: =IF(G8=0,IF(C8=$C$180,$H$180+(D8-$I$180)*$F$180,IF(C8=$C$193,$H$193+(D8-$I$193)*$F$193,IF(C8="","",IF(ISERROR(VLOOKUP(C8,$C$150:$I$301,2,0)),"",IF(D8=0,IF(VLOOKUP(C8,$C$150:$I$301,4,0)=0,VLOOKUP(C8,$C$150:$I$301,6,0),VLOOKUP(C8,$C$150:$I$301,4,0)),IF(VLOOKUP(C8,$C$150:$I$301,6,0)=0,D8*VLOOKUP(C8,$C$150:$I$301,4,0),IF(D8*VLOOKUP(C8,$C$150:$I$301,4,0)>VLOOKUP(C8,$C$150:$I$301,6,0),VLOOKUP(C8,$C$150:$I$301,6,0),D8*VLOOKUP(C8,$C$150:$I$301,4,0)))))))),"")
